BEGIN:VCALENDAR
VERSION:2.0
PRODID:-//Strasburg Borough - ECPv6.15.17.1//NONSGML v1.0//EN
CALSCALE:GREGORIAN
METHOD:PUBLISH
X-WR-CALNAME:Strasburg Borough
X-ORIGINAL-URL:https://strasburgboro.org
X-WR-CALDESC:Events for Strasburg Borough
REFRESH-INTERVAL;VALUE=DURATION:PT1H
X-Robots-Tag:noindex
X-PUBLISHED-TTL:PT1H
BEGIN:VTIMEZONE
TZID:America/New_York
BEGIN:DAYLIGHT
TZOFFSETFROM:-0500
TZOFFSETTO:-0400
TZNAME:EDT
DTSTART:20240310T070000
END:DAYLIGHT
BEGIN:STANDARD
TZOFFSETFROM:-0400
TZOFFSETTO:-0500
TZNAME:EST
DTSTART:20241103T060000
END:STANDARD
BEGIN:DAYLIGHT
TZOFFSETFROM:-0500
TZOFFSETTO:-0400
TZNAME:EDT
DTSTART:20250309T070000
END:DAYLIGHT
BEGIN:STANDARD
TZOFFSETFROM:-0400
TZOFFSETTO:-0500
TZNAME:EST
DTSTART:20251102T060000
END:STANDARD
BEGIN:DAYLIGHT
TZOFFSETFROM:-0500
TZOFFSETTO:-0400
TZNAME:EDT
DTSTART:20260308T070000
END:DAYLIGHT
BEGIN:STANDARD
TZOFFSETFROM:-0400
TZOFFSETTO:-0500
TZNAME:EST
DTSTART:20261101T060000
END:STANDARD
END:VTIMEZONE
BEGIN:VEVENT
DTSTART;VALUE=DATE:20250526
DTEND;VALUE=DATE:20250527
DTSTAMP:20260422T034116
CREATED:20250521T191325Z
LAST-MODIFIED:20250521T191900Z
UID:10137-1748217600-1748303999@strasburgboro.org
SUMMARY:Strasburg Memorial Day Parade & Service
DESCRIPTION:The Annual Strasburg Memorial Day Parade and Memorial Service\, sponsored by Strasburg Area Sertoma Club\, will be held Monday\, May 26th beginning at 9:00 a.m.\n\n\n\nThe parade will start at the west end of Miller Street and travel down West and East Main Streets. Following the parade there will a Memorial Service at the Strasburg Cemetery. In the event of inclement weather\, the parade will be cancelled\, and the services will be held at the Presbyterian Church.\n\n\n\nRoads will be temporarily closed at times so please plan your travel accordingly that morning.
URL:https://strasburgboro.org/event/strasburg-memorial-day-parade-service/
LOCATION:PA
ATTACH;FMTTYPE=image/jpeg:https://strasburgboro.org/wp-content/uploads/2021/05/memorial-day-parade.jpg
END:VEVENT
BEGIN:VEVENT
DTSTART;VALUE=DATE:20250531
DTEND;VALUE=DATE:20250601
DTSTAMP:20260422T034116
CREATED:20250521T210118Z
LAST-MODIFIED:20250521T210118Z
UID:10145-1748649600-1748735999@strasburgboro.org
SUMMARY:Annual Miller Street Yard Sales
DESCRIPTION:Miller Street and other area developments will be having yard sales. \nThis is not an event organized by the borough.
URL:https://strasburgboro.org/event/annual-miller-street-yard-sales/
LOCATION:PA
ATTACH;FMTTYPE=image/jpeg:https://strasburgboro.org/wp-content/uploads/2025/05/Garage-Sale.jpg
END:VEVENT
BEGIN:VEVENT
DTSTART;TZID=America/New_York:20250531T060000
DTEND;TZID=America/New_York:20250531T100000
DTSTAMP:20260422T034116
CREATED:20250521T193736Z
LAST-MODIFIED:20250521T193736Z
UID:10142-1748671200-1748685600@strasburgboro.org
SUMMARY:Strasburg Fire Company Buffet Breakfast
DESCRIPTION:Come out and support the fire company and get a great breakfast from 6-10 a.m. at the fire station\, 203 Franklin Street\, Strasburg.
URL:https://strasburgboro.org/event/strasburg-fire-company-buffet-breakfast/
LOCATION:PA
ATTACH;FMTTYPE=image/png:https://strasburgboro.org/wp-content/uploads/2025/05/fire-co-breakfast.png
END:VEVENT
END:VCALENDAR