BEGIN:VCALENDAR
VERSION:2.0
PRODID:-//Strasburg Borough - ECPv6.15.17.1//NONSGML v1.0//EN
CALSCALE:GREGORIAN
METHOD:PUBLISH
X-WR-CALNAME:Strasburg Borough
X-ORIGINAL-URL:https://strasburgboro.org
X-WR-CALDESC:Events for Strasburg Borough
REFRESH-INTERVAL;VALUE=DURATION:PT1H
X-Robots-Tag:noindex
X-PUBLISHED-TTL:PT1H
BEGIN:VTIMEZONE
TZID:America/New_York
BEGIN:DAYLIGHT
TZOFFSETFROM:-0500
TZOFFSETTO:-0400
TZNAME:EDT
DTSTART:20240310T070000
END:DAYLIGHT
BEGIN:STANDARD
TZOFFSETFROM:-0400
TZOFFSETTO:-0500
TZNAME:EST
DTSTART:20241103T060000
END:STANDARD
BEGIN:DAYLIGHT
TZOFFSETFROM:-0500
TZOFFSETTO:-0400
TZNAME:EDT
DTSTART:20250309T070000
END:DAYLIGHT
BEGIN:STANDARD
TZOFFSETFROM:-0400
TZOFFSETTO:-0500
TZNAME:EST
DTSTART:20251102T060000
END:STANDARD
BEGIN:DAYLIGHT
TZOFFSETFROM:-0500
TZOFFSETTO:-0400
TZNAME:EDT
DTSTART:20260308T070000
END:DAYLIGHT
BEGIN:STANDARD
TZOFFSETFROM:-0400
TZOFFSETTO:-0500
TZNAME:EST
DTSTART:20261101T060000
END:STANDARD
END:VTIMEZONE
BEGIN:VEVENT
DTSTART;VALUE=DATE:20250704
DTEND;VALUE=DATE:20250705
DTSTAMP:20260422T000302
CREATED:20250522T120024Z
LAST-MODIFIED:20250522T120024Z
UID:10151-1751587200-1751673599@strasburgboro.org
SUMMARY:Independence Day!
DESCRIPTION:Have a safe & happy Independence Day!
URL:https://strasburgboro.org/event/independence-day/
LOCATION:PA
ATTACH;FMTTYPE=image/gif:https://strasburgboro.org/wp-content/uploads/2022/06/giphy.gif
END:VEVENT
BEGIN:VEVENT
DTSTART;TZID=America/New_York:20250706T150000
DTEND;TZID=America/New_York:20250706T163000
DTSTAMP:20260422T000302
CREATED:20250625T141700Z
LAST-MODIFIED:20250625T142034Z
UID:10971-1751814000-1751819400@strasburgboro.org
SUMMARY:Servant Stage Company - Swing!
DESCRIPTION:SWING! is a high-energy Broadway musical that celebrates the vibrant dance and music style of swing\, a genre that became popular in the 1930s and ’40s. Featuring a series of dance numbers rather than a traditional narrative\, the show highlights the athleticism and excitement of swing dancing\, from jitterbug to lindy hop. With music ranging from jazz standards to more contemporary takes\, SWING! showcases the incredible talents of both dancers and musicians\, creating an electrifying atmosphere that captures the spirit and joy of this classic American art form. \nhttps://servantstage.org/
URL:https://strasburgboro.org/event/servant-stage-company-swing/
LOCATION:Strasburg Community Park\, 151 Precision Avenue\, Strasburg\, PA\, 17579\, United States
ATTACH;FMTTYPE=image/png:https://strasburgboro.org/wp-content/uploads/2025/06/ss-swing-color3-square.png
END:VEVENT
BEGIN:VEVENT
DTSTART;TZID=America/New_York:20250712T183000
DTEND;TZID=America/New_York:20250712T203000
DTSTAMP:20260422T000302
CREATED:20250625T132954Z
LAST-MODIFIED:20250625T133051Z
UID:10960-1752345000-1752352200@strasburgboro.org
SUMMARY:Sounds of Strasburg Concert - Studio Two Beatles Tribute Band
DESCRIPTION:Hailed as ‘New England’s Best Beatles Tribute Band’ by The Boston Globe\, Studio Two will take their tour through the Northeastern United States to Strasburg July 12! \nFeaturing the favorite hits of the early Beatles years\, the group recreates the Fab Four’s music\, appearance\, instruments\, and onstage banter to the delight of audiences everywhere. Comprised of graduates from Berklee College of Music who are Beatles devotees\, Studio Two members are experienced musicians of today’s generation dedicated to preserving the memory and fan culture of The Beatles generation. \nhttps://strasburgcommunitypark.org/concerts-bingo-2/
URL:https://strasburgboro.org/event/sounds-of-strasburg-concert-studio-two-beatles-tribute-band/
LOCATION:PA
ATTACH;FMTTYPE=image/png:https://strasburgboro.org/wp-content/uploads/2025/06/Concert-July-12th.png
END:VEVENT
BEGIN:VEVENT
DTSTART;TZID=America/New_York:20250726T183000
DTEND;TZID=America/New_York:20250726T203000
DTSTAMP:20260422T000302
CREATED:20250625T134336Z
LAST-MODIFIED:20250625T134512Z
UID:10963-1753554600-1753561800@strasburgboro.org
SUMMARY:Sounds of Strasburg Concert - Steven Courtney and the Suitcase Musicians
DESCRIPTION:Few artists are as committed to expanding the boundaries of Children’s Music and Family Entertainment as Steven Courtney. This multi-award winning musician has performed over 6500 shows and will bring his band The Suitcase Musicians to the Strasburg Community Park with a fun mix of classic Steven Courtney kids n family tunes along with good vibes rock n roll for all ages to enjoy. \nhttps://strasburgcommunitypark.org/concerts-bingo-2/
URL:https://strasburgboro.org/event/sounds-of-strasburg-concert-series-steven-courtney-and-the-suitcase-musicians/
LOCATION:PA
ATTACH;FMTTYPE=image/png:https://strasburgboro.org/wp-content/uploads/2025/06/Concert-July-26.png
END:VEVENT
BEGIN:VEVENT
DTSTART;TZID=America/New_York:20250727T190000
DTEND;TZID=America/New_York:20250727T203000
DTSTAMP:20260422T000302
CREATED:20250625T143436Z
LAST-MODIFIED:20250630T150613Z
UID:10975-1753642800-1753648200@strasburgboro.org
SUMMARY:Strasburg Lions Club Annual Veterans Concert
DESCRIPTION:An annual patriotic concert by the L-S Community Band\, and sponsored by the Strasburg Lions Club! \nThe concert will be held on the borough office front lawn\, 145 Precision Avenue.  In case of inclement weather\, the concert will be moved to the Strasburg Fire Station\, 203 Franklin Street. \nBring a chair or blanket\, and family or friends\, for a nice evening of music!
URL:https://strasburgboro.org/event/strasburg-lions-club-annual-veterans-concert/
LOCATION:Strasburg Borough Municipal Building\, 145 Precision Avenue\, Strasburg\, PA\, 17579
ATTACH;FMTTYPE=image/jpeg:https://strasburgboro.org/wp-content/uploads/2025/06/VETERANS-CONCERT-2025.jpg
END:VEVENT
END:VCALENDAR