BEGIN:VCALENDAR
VERSION:2.0
PRODID:-//Strasburg Borough - ECPv6.15.17.1//NONSGML v1.0//EN
CALSCALE:GREGORIAN
METHOD:PUBLISH
X-ORIGINAL-URL:https://strasburgboro.org
X-WR-CALDESC:Events for Strasburg Borough
REFRESH-INTERVAL;VALUE=DURATION:PT1H
X-Robots-Tag:noindex
X-PUBLISHED-TTL:PT1H
BEGIN:VTIMEZONE
TZID:America/New_York
BEGIN:DAYLIGHT
TZOFFSETFROM:-0500
TZOFFSETTO:-0400
TZNAME:EDT
DTSTART:20240310T070000
END:DAYLIGHT
BEGIN:STANDARD
TZOFFSETFROM:-0400
TZOFFSETTO:-0500
TZNAME:EST
DTSTART:20241103T060000
END:STANDARD
BEGIN:DAYLIGHT
TZOFFSETFROM:-0500
TZOFFSETTO:-0400
TZNAME:EDT
DTSTART:20250309T070000
END:DAYLIGHT
BEGIN:STANDARD
TZOFFSETFROM:-0400
TZOFFSETTO:-0500
TZNAME:EST
DTSTART:20251102T060000
END:STANDARD
BEGIN:DAYLIGHT
TZOFFSETFROM:-0500
TZOFFSETTO:-0400
TZNAME:EDT
DTSTART:20260308T070000
END:DAYLIGHT
BEGIN:STANDARD
TZOFFSETFROM:-0400
TZOFFSETTO:-0500
TZNAME:EST
DTSTART:20261101T060000
END:STANDARD
END:VTIMEZONE
BEGIN:VEVENT
DTSTART;VALUE=DATE:20251205
DTEND;VALUE=DATE:20251206
DTSTAMP:20260421T151133
CREATED:20250604T140558Z
LAST-MODIFIED:20250604T143403Z
UID:10932-1764892800-1764979199@strasburgboro.org
SUMMARY:Strasburg Community Tree Lighting
DESCRIPTION:More information to come closer to the event.
URL:https://strasburgboro.org/event/strasburg-community-tree-lighting/
LOCATION:Strasburg Borough Municipal Building\, 145 Precision Avenue\, Strasburg\, PA\, 17579
ATTACH;FMTTYPE=image/jpeg:https://strasburgboro.org/wp-content/uploads/2025/05/Tree-Lighting-Save-the-Date-2025-Made-with-PosterMyWall-1.jpg
END:VEVENT
BEGIN:VEVENT
DTSTART;TZID=America/New_York:20251206T100000
DTEND;TZID=America/New_York:20251206T160000
DTSTAMP:20260421T151133
CREATED:20251105T155305Z
LAST-MODIFIED:20251105T155359Z
UID:11303-1765015200-1765036800@strasburgboro.org
SUMMARY:Strasburg Heritage Society Holiday Home Tour
DESCRIPTION:
URL:https://strasburgboro.org/event/holiday-home-tour/
LOCATION:PA
ATTACH;FMTTYPE=image/jpeg:https://strasburgboro.org/wp-content/uploads/2025/11/Home-Tour-2025.jpg
END:VEVENT
END:VCALENDAR