BEGIN:VCALENDAR
VERSION:2.0
PRODID:-//Strasburg Borough - ECPv6.15.17.1//NONSGML v1.0//EN
CALSCALE:GREGORIAN
METHOD:PUBLISH
X-WR-CALNAME:Strasburg Borough
X-ORIGINAL-URL:https://strasburgboro.org
X-WR-CALDESC:Events for Strasburg Borough
REFRESH-INTERVAL;VALUE=DURATION:PT1H
X-Robots-Tag:noindex
X-PUBLISHED-TTL:PT1H
BEGIN:VTIMEZONE
TZID:America/New_York
BEGIN:DAYLIGHT
TZOFFSETFROM:-0500
TZOFFSETTO:-0400
TZNAME:EDT
DTSTART:20250309T070000
END:DAYLIGHT
BEGIN:STANDARD
TZOFFSETFROM:-0400
TZOFFSETTO:-0500
TZNAME:EST
DTSTART:20251102T060000
END:STANDARD
BEGIN:DAYLIGHT
TZOFFSETFROM:-0500
TZOFFSETTO:-0400
TZNAME:EDT
DTSTART:20260308T070000
END:DAYLIGHT
BEGIN:STANDARD
TZOFFSETFROM:-0400
TZOFFSETTO:-0500
TZNAME:EST
DTSTART:20261101T060000
END:STANDARD
BEGIN:DAYLIGHT
TZOFFSETFROM:-0500
TZOFFSETTO:-0400
TZNAME:EDT
DTSTART:20270314T070000
END:DAYLIGHT
BEGIN:STANDARD
TZOFFSETFROM:-0400
TZOFFSETTO:-0500
TZNAME:EST
DTSTART:20271107T060000
END:STANDARD
END:VTIMEZONE
BEGIN:VEVENT
DTSTART;TZID=America/New_York:20260128T140000
DTEND;TZID=America/New_York:20260128T190000
DTSTAMP:20260421T134810
CREATED:20251216T165408Z
LAST-MODIFIED:20251216T165441Z
UID:11461-1769608800-1769626800@strasburgboro.org
SUMMARY:SBPD Bleed Blue Blood Drive
DESCRIPTION:
URL:https://strasburgboro.org/event/sbpd-bleed-blue-blood-drive/
LOCATION:Strasburg Borough Municipal Building\, 145 Precision Avenue\, Strasburg\, PA\, 17579
ATTACH;FMTTYPE=image/png:https://strasburgboro.org/wp-content/uploads/2025/12/Bleed-Blue-Blood-Drive-2026.png
END:VEVENT
END:VCALENDAR