BEGIN:VCALENDAR
VERSION:2.0
PRODID:-//Strasburg Borough - ECPv6.15.17.1//NONSGML v1.0//EN
CALSCALE:GREGORIAN
METHOD:PUBLISH
X-ORIGINAL-URL:https://strasburgboro.org
X-WR-CALDESC:Events for Strasburg Borough
REFRESH-INTERVAL;VALUE=DURATION:PT1H
X-Robots-Tag:noindex
X-PUBLISHED-TTL:PT1H
BEGIN:VTIMEZONE
TZID:America/New_York
BEGIN:DAYLIGHT
TZOFFSETFROM:-0500
TZOFFSETTO:-0400
TZNAME:EDT
DTSTART:20250309T070000
END:DAYLIGHT
BEGIN:STANDARD
TZOFFSETFROM:-0400
TZOFFSETTO:-0500
TZNAME:EST
DTSTART:20251102T060000
END:STANDARD
BEGIN:DAYLIGHT
TZOFFSETFROM:-0500
TZOFFSETTO:-0400
TZNAME:EDT
DTSTART:20260308T070000
END:DAYLIGHT
BEGIN:STANDARD
TZOFFSETFROM:-0400
TZOFFSETTO:-0500
TZNAME:EST
DTSTART:20261101T060000
END:STANDARD
BEGIN:DAYLIGHT
TZOFFSETFROM:-0500
TZOFFSETTO:-0400
TZNAME:EDT
DTSTART:20270314T070000
END:DAYLIGHT
BEGIN:STANDARD
TZOFFSETFROM:-0400
TZOFFSETTO:-0500
TZNAME:EST
DTSTART:20271107T060000
END:STANDARD
END:VTIMEZONE
BEGIN:VEVENT
DTSTART;TZID=America/New_York:20260224T083000
DTEND;TZID=America/New_York:20260224T110000
DTSTAMP:20260421T121447
CREATED:20260210T173414Z
LAST-MODIFIED:20260210T173644Z
UID:11670-1771921800-1771930800@strasburgboro.org
SUMMARY:Coffee With a Cop
DESCRIPTION:Join the Strasburg Borough Police Department on Tuesday\, February 24\, 2026\, for our annual Coffee with a Cop morning. Come out to Agape Cafe and Grille from 8:30am-11:00am and enjoy free coffee and pastries with the Strasburg Borough Police Officers.  \nSpecial thanks to Agape Cafe and Grille\, Benner Insurance and Strasburg Marketplace for sponsoring this event. 
URL:https://strasburgboro.org/event/coffee-with-a-cop/
LOCATION:Agape Cafe & Grille\, 366 Hartman Bridge Road\, Ronks\, PA\, 17572
ATTACH;FMTTYPE=image/png:https://strasburgboro.org/wp-content/uploads/2026/02/CwC-2026.png
END:VEVENT
BEGIN:VEVENT
DTSTART;VALUE=DATE:20260227
DTEND;VALUE=DATE:20260301
DTSTAMP:20260421T121447
CREATED:20260210T174201Z
LAST-MODIFIED:20260210T174201Z
UID:11677-1772150400-1772323199@strasburgboro.org
SUMMARY:51st Annual Strasburg Fire Company Spring (Mud) Sale
DESCRIPTION:
URL:https://strasburgboro.org/event/51st-annual-strasburg-fire-company-spring-mud-sale/
LOCATION:Strasburg Fire Company\, 203 Franklin Street\, Strasburg\, PA\, 17579\, United States
ATTACH;FMTTYPE=image/png:https://strasburgboro.org/wp-content/uploads/2026/02/Fire-Sale-2026.png
END:VEVENT
END:VCALENDAR