BEGIN:VCALENDAR
VERSION:2.0
PRODID:-//Strasburg Borough - ECPv6.15.17.1//NONSGML v1.0//EN
CALSCALE:GREGORIAN
METHOD:PUBLISH
X-ORIGINAL-URL:https://strasburgboro.org
X-WR-CALDESC:Events for Strasburg Borough
REFRESH-INTERVAL;VALUE=DURATION:PT1H
X-Robots-Tag:noindex
X-PUBLISHED-TTL:PT1H
BEGIN:VTIMEZONE
TZID:America/New_York
BEGIN:DAYLIGHT
TZOFFSETFROM:-0500
TZOFFSETTO:-0400
TZNAME:EDT
DTSTART:20250309T070000
END:DAYLIGHT
BEGIN:STANDARD
TZOFFSETFROM:-0400
TZOFFSETTO:-0500
TZNAME:EST
DTSTART:20251102T060000
END:STANDARD
BEGIN:DAYLIGHT
TZOFFSETFROM:-0500
TZOFFSETTO:-0400
TZNAME:EDT
DTSTART:20260308T070000
END:DAYLIGHT
BEGIN:STANDARD
TZOFFSETFROM:-0400
TZOFFSETTO:-0500
TZNAME:EST
DTSTART:20261101T060000
END:STANDARD
BEGIN:DAYLIGHT
TZOFFSETFROM:-0500
TZOFFSETTO:-0400
TZNAME:EDT
DTSTART:20270314T070000
END:DAYLIGHT
BEGIN:STANDARD
TZOFFSETFROM:-0400
TZOFFSETTO:-0500
TZNAME:EST
DTSTART:20271107T060000
END:STANDARD
END:VTIMEZONE
BEGIN:VEVENT
DTSTART;VALUE=DATE:20260509
DTEND;VALUE=DATE:20260510
DTSTAMP:20260421T104723
CREATED:20260406T194321Z
LAST-MODIFIED:20260406T194321Z
UID:11867-1778284800-1778371199@strasburgboro.org
SUMMARY:Kat's 5k Family Run/Walk
DESCRIPTION:The 12th Annual Kat’s 5k Family Run/Walk will be held Saturday\, May 9th\, rain or shine. Runners and walkers will be gathering in the back parking lot of Wesley United Methodist Church Fellowship Hall\, 46 West Main Street\, for the event.  \nThe event is to celebrate the short but precious lives of so many babies that are forever missed and loved. Proceeds will benefit The Sweet Pea Project\, The Lancaster Garden of Hope\, and the Kathryn Frances Lehoe Burial Fund. These organizations provide our bereaved community so much love and support during the most difficult times in their lives.  \nRunners and walkers will be traveling a loop from Franklin Street to South Jackson Street\, Bunker Hill and Twin Elm Roads\, and looping back to the starting point. Road closures and detours will be marked and in place until at least mid-morning. Please be cautious and patient if you are traveling these roads during the event. For more information visit https://friendsofangelspa.org/kats-5k-family-run-walk/
URL:https://strasburgboro.org/event/kats-5k-family-run-walk/
LOCATION:Wesley Fellowship Hall\, 40 West Main Street\, Strasburg\, PA\, 17579\, United States
END:VEVENT
BEGIN:VEVENT
DTSTART;VALUE=DATE:20260525
DTEND;VALUE=DATE:20260526
DTSTAMP:20260421T104723
CREATED:20260406T193020Z
LAST-MODIFIED:20260406T193048Z
UID:11862-1779667200-1779753599@strasburgboro.org
SUMMARY:Strasburg Memorial Day Parade & Service
DESCRIPTION:The Annual Strasburg Memorial Day Parade and Memorial Service\, sponsored by Strasburg Area Sertoma Club\, will be held Monday\, May 25th beginning at 9:00 a.m.\n\n\n\nThe parade will start at the west end of Miller Street and travel down West and East Main Streets. Following the parade there will a Memorial Service at the Strasburg Cemetery. In the event of inclement weather\, the parade will be cancelled\, and the services will be held at the Presbyterian Church.\n\n\n\nRoads will be temporarily closed at times so please plan your travel accordingly that morning.
URL:https://strasburgboro.org/event/strasburg-memorial-day-parade-service-2/
LOCATION:PA
ATTACH;FMTTYPE=image/jpeg:https://strasburgboro.org/wp-content/uploads/2021/05/memorial-day-parade.jpg
END:VEVENT
BEGIN:VEVENT
DTSTART;VALUE=DATE:20260530
DTEND;VALUE=DATE:20260531
DTSTAMP:20260421T104723
CREATED:20260406T193248Z
LAST-MODIFIED:20260406T193248Z
UID:11865-1780099200-1780185599@strasburgboro.org
SUMMARY:Annual Miller Street Yard Sales
DESCRIPTION:Miller Street and other area developments will be having yard sales. \nThis is not an event organized by the borough.
URL:https://strasburgboro.org/event/annual-miller-street-yard-sales-2/
LOCATION:PA
ATTACH;FMTTYPE=image/jpeg:https://strasburgboro.org/wp-content/uploads/2025/05/Garage-Sale.jpg
END:VEVENT
END:VCALENDAR