BEGIN:VCALENDAR
VERSION:2.0
PRODID:-//Strasburg Borough - ECPv6.15.17.1//NONSGML v1.0//EN
CALSCALE:GREGORIAN
METHOD:PUBLISH
X-ORIGINAL-URL:https://strasburgboro.org
X-WR-CALDESC:Events for Strasburg Borough
REFRESH-INTERVAL;VALUE=DURATION:PT1H
X-Robots-Tag:noindex
X-PUBLISHED-TTL:PT1H
BEGIN:VTIMEZONE
TZID:America/New_York
BEGIN:DAYLIGHT
TZOFFSETFROM:-0500
TZOFFSETTO:-0400
TZNAME:EDT
DTSTART:20250309T070000
END:DAYLIGHT
BEGIN:STANDARD
TZOFFSETFROM:-0400
TZOFFSETTO:-0500
TZNAME:EST
DTSTART:20251102T060000
END:STANDARD
BEGIN:DAYLIGHT
TZOFFSETFROM:-0500
TZOFFSETTO:-0400
TZNAME:EDT
DTSTART:20260308T070000
END:DAYLIGHT
BEGIN:STANDARD
TZOFFSETFROM:-0400
TZOFFSETTO:-0500
TZNAME:EST
DTSTART:20261101T060000
END:STANDARD
BEGIN:DAYLIGHT
TZOFFSETFROM:-0500
TZOFFSETTO:-0400
TZNAME:EDT
DTSTART:20270314T070000
END:DAYLIGHT
BEGIN:STANDARD
TZOFFSETFROM:-0400
TZOFFSETTO:-0500
TZNAME:EST
DTSTART:20271107T060000
END:STANDARD
END:VTIMEZONE
BEGIN:VEVENT
DTSTART;TZID=America/New_York:20260423T140000
DTEND;TZID=America/New_York:20260423T190000
DTSTAMP:20260421T091327
CREATED:20260406T192615Z
LAST-MODIFIED:20260406T192653Z
UID:11858-1776952800-1776970800@strasburgboro.org
SUMMARY:Community Blood Drive
DESCRIPTION:Remember to schedule your life saving blood donation for the upcoming Blood Drive hosted by Penn Medicine LGH at Strasburg Borough PD. \nAll donated blood products are used locally to support patients at Penn Medicine Lancaster General Hospital\, Women & Babies Hospital\, and the Ann B. Barshinger Cancer Institute.\nhttps://www.lghblooddonors.org/donorportal/donate-blood/
URL:https://strasburgboro.org/event/community-blood-drive/
LOCATION:Strasburg Borough Municipal Building\, 145 Precision Avenue\, Strasburg\, PA\, 17579
ATTACH;FMTTYPE=image/jpeg:https://strasburgboro.org/wp-content/uploads/2026/04/PD-BLOOD-DRIVE-APRIL-2026-Made-with-PosterMyWall.jpg
END:VEVENT
END:VCALENDAR